BEGIN:VCALENDAR
VERSION:2.0
PRODID:-//GGallery - ECPv6.15.20//NONSGML v1.0//EN
CALSCALE:GREGORIAN
METHOD:PUBLISH
X-WR-CALNAME:GGallery
X-ORIGINAL-URL:https://www.gallerygroup.it
X-WR-CALDESC:Eventi per GGallery
REFRESH-INTERVAL;VALUE=DURATION:PT1H
X-Robots-Tag:noindex
X-PUBLISHED-TTL:PT1H
BEGIN:VTIMEZONE
TZID:Europe/Paris
BEGIN:DAYLIGHT
TZOFFSETFROM:+0100
TZOFFSETTO:+0200
TZNAME:CEST
DTSTART:20250330T010000
END:DAYLIGHT
BEGIN:STANDARD
TZOFFSETFROM:+0200
TZOFFSETTO:+0100
TZNAME:CET
DTSTART:20251026T010000
END:STANDARD
BEGIN:DAYLIGHT
TZOFFSETFROM:+0100
TZOFFSETTO:+0200
TZNAME:CEST
DTSTART:20260329T010000
END:DAYLIGHT
BEGIN:STANDARD
TZOFFSETFROM:+0200
TZOFFSETTO:+0100
TZNAME:CET
DTSTART:20261025T010000
END:STANDARD
BEGIN:DAYLIGHT
TZOFFSETFROM:+0100
TZOFFSETTO:+0200
TZNAME:CEST
DTSTART:20270328T010000
END:DAYLIGHT
BEGIN:STANDARD
TZOFFSETFROM:+0200
TZOFFSETTO:+0100
TZNAME:CET
DTSTART:20271031T010000
END:STANDARD
END:VTIMEZONE
BEGIN:VEVENT
DTSTART;TZID=Europe/Paris:20260520T183000
DTEND;TZID=Europe/Paris:20260520T230000
DTSTAMP:20260424T185450
CREATED:20260331T133658Z
LAST-MODIFIED:20260331T134015Z
UID:10000068-1779301800-1779318000@www.gallerygroup.it
SUMMARY:Gestire La Complessità: Il Ruolo Dell’analgesia Multimodale In Ambulatorio
DESCRIPTION:Razionale scientifico\nIl dolore rappresenta una delle principali cause di accesso alle cure primarie. La gestione clinica richiede un equilibrio costante tra efficacia e sicurezza\, in particolare nei pazienti fragili\, anziani e polipatologici. \nL’adozione di strategie di analgesia multimodale permette di ottimizzare il controllo algico riducendo i rischi correlati alle singole classi farmacologiche\, garantendo l’appropriatezza prescrittiva anche in presenza di comorbidità come l’insufficienza renale. \nQualora il quadro clinico richieda l’impiego di terapie analgesiche di livello superiore\, diventa essenziale la gestione proattiva degli eventi avversi. Tra questi\, la stipsi indotta da trattamento riveste un ruolo critico per la qualità della vita del paziente e richiede interventi farmacologici mirati che agiscano selettivamente a livello periferico.  \nIl corso si propone di fornire algoritmi pratici e discussioni su casi clinici per migliorare la continuità di cura tra ospedale e territorio. \nResponsabili scientifici\nFlavio Fusco – Paolo Moscatelli \nScarica locandina\nSede evento
URL:https://www.gallerygroup.it/event/gestire-la-complessita-il-ruolo-dellanalgesia-multimodale-in-ambulatorio/
LOCATION:Ordine Provinciale dei Medici Chirurghi  e degli Odontoiatri di Genova\, Piazza della Vittoria 12/4\, Genova\, 16121\, Italy
CATEGORIES:Eventi residenziali ECM
ATTACH;FMTTYPE=image/jpeg:https://www.gallerygroup.it/wp-content/uploads/2026/03/moscatelli.jpg
ORGANIZER;CN="GGallery srl":MAILTO:info@ggallery.it
END:VEVENT
END:VCALENDAR