BEGIN:VCALENDAR
VERSION:2.0
PRODID:-//GGallery - ECPv6.15.20//NONSGML v1.0//EN
CALSCALE:GREGORIAN
METHOD:PUBLISH
X-ORIGINAL-URL:https://www.gallerygroup.it
X-WR-CALDESC:Eventi per GGallery
REFRESH-INTERVAL;VALUE=DURATION:PT1H
X-Robots-Tag:noindex
X-PUBLISHED-TTL:PT1H
BEGIN:VTIMEZONE
TZID:Europe/Paris
BEGIN:DAYLIGHT
TZOFFSETFROM:+0100
TZOFFSETTO:+0200
TZNAME:CEST
DTSTART:20240331T010000
END:DAYLIGHT
BEGIN:STANDARD
TZOFFSETFROM:+0200
TZOFFSETTO:+0100
TZNAME:CET
DTSTART:20241027T010000
END:STANDARD
BEGIN:DAYLIGHT
TZOFFSETFROM:+0100
TZOFFSETTO:+0200
TZNAME:CEST
DTSTART:20250330T010000
END:DAYLIGHT
BEGIN:STANDARD
TZOFFSETFROM:+0200
TZOFFSETTO:+0100
TZNAME:CET
DTSTART:20251026T010000
END:STANDARD
BEGIN:DAYLIGHT
TZOFFSETFROM:+0100
TZOFFSETTO:+0200
TZNAME:CEST
DTSTART:20260329T010000
END:DAYLIGHT
BEGIN:STANDARD
TZOFFSETFROM:+0200
TZOFFSETTO:+0100
TZNAME:CET
DTSTART:20261025T010000
END:STANDARD
END:VTIMEZONE
BEGIN:VEVENT
DTSTART;TZID=Europe/Paris:20251104T094500
DTEND;TZID=Europe/Paris:20251104T174500
DTSTAMP:20260424T203744
CREATED:20251009T141216Z
LAST-MODIFIED:20251009T150512Z
UID:10000050-1762249500-1762278300@www.gallerygroup.it
SUMMARY:PATOLOGIA EMOCOAGULATIVA: TRA CONDIZIONI RARE ED ESPERIENZE
DESCRIPTION:Razionale scientifico\nIl convegno si propone di fare il punto su aspetti diagnostico terapeutici nel campo di alcune coagulopatie. Questo evento riunirà esperti\, ricercatori e professionisti del settore medico della Liguria per discutere delle sfide attuali e delle opportunità future nella gestione di tali patologie. \nDurante il convegno\, che si svolgerà nell’arco di una giornata\, verranno presentati i risultati dell’esperienza ligure e fatto il punto sulle terapie più attuali nell’ambito di alcune coagulopatie. Saranno affrontati temi cruciali come l’importanza della diagnosi precoce\, di un corretto approccio\, sia per gli aspetti diagnostico terapeutici che gestionali\, facendo il punto sul modello di rete\, già oggi particolarmente consolidato nella nostra realtà regionale. \nL’obiettivo principale del convegno è quello di favorire lo scambio di conoscenze e di esperienze tra i partecipanti\, promuovendo la collaborazione interdisciplinare e l’adozione di best practices nel trattamento dei disturbi della coagulazione. I partecipanti avranno l’opportunità di approfondire le loro competenze e di contribuire attivamente al progresso del trattamento dei malati in questo campo particolarmente significativo. \nScarica locandina \nResponsabile scientifico\nVanessa Agostini\, Direttrice U.O. Medicina Trasfusionale – IRCCS Ospedale Policlinico San Martino Genova \nAngelo Claudio Molinari\, Responsabile struttura semplice a valenza dipartimentale Centro Emostasi e Trombosi – IRCCS Istituto Giannina Gaslini Genova \nPaolo Moscatelli\, Direttore U.O. Medicina Interna – IRCCS Ospedale Policilinico San Martino Genova \nSede evento
URL:https://www.gallerygroup.it/event/patologia-emocoagulativa-tra-condizioni-rare-ed-esperienze/
LOCATION:Ordine Provinciale dei Medici Chirurghi  e degli Odontoiatri di Genova\, Piazza della Vittoria 12/4\, Genova\, 16121\, Italy
CATEGORIES:Eventi residenziali ECM
ATTACH;FMTTYPE=image/jpeg:https://www.gallerygroup.it/wp-content/uploads/2025/10/moscatelli_img.jpg
ORGANIZER;CN="GGallery srl":MAILTO:info@ggallery.it
END:VEVENT
END:VCALENDAR