BEGIN:VCALENDAR
VERSION:2.0
PRODID:-//GGallery - ECPv6.15.20//NONSGML v1.0//EN
CALSCALE:GREGORIAN
METHOD:PUBLISH
X-WR-CALNAME:GGallery
X-ORIGINAL-URL:https://www.gallerygroup.it
X-WR-CALDESC:Eventi per GGallery
REFRESH-INTERVAL;VALUE=DURATION:PT1H
X-Robots-Tag:noindex
X-PUBLISHED-TTL:PT1H
BEGIN:VTIMEZONE
TZID:Europe/Paris
BEGIN:DAYLIGHT
TZOFFSETFROM:+0100
TZOFFSETTO:+0200
TZNAME:CEST
DTSTART:20240331T010000
END:DAYLIGHT
BEGIN:STANDARD
TZOFFSETFROM:+0200
TZOFFSETTO:+0100
TZNAME:CET
DTSTART:20241027T010000
END:STANDARD
BEGIN:DAYLIGHT
TZOFFSETFROM:+0100
TZOFFSETTO:+0200
TZNAME:CEST
DTSTART:20250330T010000
END:DAYLIGHT
BEGIN:STANDARD
TZOFFSETFROM:+0200
TZOFFSETTO:+0100
TZNAME:CET
DTSTART:20251026T010000
END:STANDARD
BEGIN:DAYLIGHT
TZOFFSETFROM:+0100
TZOFFSETTO:+0200
TZNAME:CEST
DTSTART:20260329T010000
END:DAYLIGHT
BEGIN:STANDARD
TZOFFSETFROM:+0200
TZOFFSETTO:+0100
TZNAME:CET
DTSTART:20261025T010000
END:STANDARD
END:VTIMEZONE
BEGIN:VEVENT
DTSTART;TZID=Europe/Paris:20251121T090000
DTEND;TZID=Europe/Paris:20251121T170000
DTSTAMP:20260419T155914
CREATED:20251023T092011Z
LAST-MODIFIED:20251028T162026Z
UID:10000055-1763715600-1763744400@www.gallerygroup.it
SUMMARY:NUTRIZIONE ARTIFICIALE: QUALE RUOLO PER IL FARMACISTA OSPEDALIERO E PER IL CLINICO
DESCRIPTION:Razionale scientifico\nIn un panorama sanitario sempre più complesso\, il farmacista e il clinico sono chiamati a sviluppare competenze approfondite e specifiche per affrontare le sfide legate a un’assistenza di qualità e all’uso appropriato delle risorse disponibili. In questo contesto\, il lavoro in team multidisciplinari rappresenta un elemento imprescindibile: il confronto tra diverse professionalità consente infatti di costruire percorsi virtuosi e condivisi\, in un sistema realmente paziente-centrico. \nL’evento formativo si propone di fornire strumenti aggiornati e competenze operative per affrontare in maniera appropriata il tema della nutrizione clinica\, sia nei pazienti ospedalizzati sia nel contesto territoriale. Parallelamente\, intende promuovere un tavolo di confronto costruttivo\, volto a identificare i percorsi più efficaci per la gestione integrata delle terapie\, degli approvvigionamenti e delle procedure di gara. \nLa nutrizione clinica è oggi riconosciuta come un pilastro fondamentale nella cura del paziente: influenza morbilità\, mortalità e qualità della vita. Per questo motivo deve rivestire un ruolo centrale nei modelli organizzativi\, guidati dal principio di appropriatezza che orienti le scelte cliniche\, terapeutiche e gestionali. \nGli obiettivi della giornata saranno: \n\naggiornare le conoscenze scientifiche e cliniche in tema di nutrizione;\nsviluppare competenze specifiche per la gestione integrata dei percorsi   nutrizionali;\npromuovere azioni sinergiche e di confronto tra i diversi professionisti   sanitari\, con l’obiettivo di garantire una presa in carico efficace e   continuativa del paziente\, sia in ospedale che a domicilio.\n\nResponsabile scientifico\nFilippo Giorgio Di Girolamo \nScarica la brochure\nSede evento
URL:https://www.gallerygroup.it/event/nutrizione-artificiale-quale-ruolo-per-il-farmacista-ospedaliero-e-per-il-clinico/
LOCATION:HOTEL SANTIN\, Viale delle Grazie\, 9\, Pordenone\, Italia\, 33170
CATEGORIES:Eventi residenziali ECM
ATTACH;FMTTYPE=image/jpeg:https://www.gallerygroup.it/wp-content/uploads/2025/10/img_pordenone.jpg
ORGANIZER;CN="GGallery srl":MAILTO:info@ggallery.it
END:VEVENT
END:VCALENDAR